BEGIN:VCALENDAR
VERSION:2.0
PRODID:-//LA Career Pathways Partnership - ECPv6.15.17//NONSGML v1.0//EN
CALSCALE:GREGORIAN
METHOD:PUBLISH
X-ORIGINAL-URL:https://lacareerpathwayspartnership.com
X-WR-CALDESC:Events for LA Career Pathways Partnership
REFRESH-INTERVAL;VALUE=DURATION:PT1H
X-Robots-Tag:noindex
X-PUBLISHED-TTL:PT1H
BEGIN:VTIMEZONE
TZID:America/Los_Angeles
BEGIN:DAYLIGHT
TZOFFSETFROM:-0800
TZOFFSETTO:-0700
TZNAME:PDT
DTSTART:20180311T100000
END:DAYLIGHT
BEGIN:STANDARD
TZOFFSETFROM:-0700
TZOFFSETTO:-0800
TZNAME:PST
DTSTART:20181104T090000
END:STANDARD
BEGIN:DAYLIGHT
TZOFFSETFROM:-0800
TZOFFSETTO:-0700
TZNAME:PDT
DTSTART:20190310T100000
END:DAYLIGHT
BEGIN:STANDARD
TZOFFSETFROM:-0700
TZOFFSETTO:-0800
TZNAME:PST
DTSTART:20191103T090000
END:STANDARD
BEGIN:DAYLIGHT
TZOFFSETFROM:-0800
TZOFFSETTO:-0700
TZNAME:PDT
DTSTART:20200308T100000
END:DAYLIGHT
BEGIN:STANDARD
TZOFFSETFROM:-0700
TZOFFSETTO:-0800
TZNAME:PST
DTSTART:20201101T090000
END:STANDARD
END:VTIMEZONE
BEGIN:VEVENT
DTSTART;TZID=America/Los_Angeles:20191011T080000
DTEND;TZID=America/Los_Angeles:20191013T170000
DTSTAMP:20260423T141422
CREATED:20190305T232743Z
LAST-MODIFIED:20190305T233304Z
UID:1086-1570780800-1570986000@lacareerpathwayspartnership.com
SUMMARY:National Career Pathways Network Conference
DESCRIPTION:
URL:https://lacareerpathwayspartnership.com/event/national-career-pathways-network-conference/
LOCATION:Renaissance Orlando\, 6677 Sea Harbor Drive\, Orlando\, FL\, 32821
END:VEVENT
BEGIN:VEVENT
DTSTART;TZID=America/Los_Angeles:20191013T170000
DTEND;TZID=America/Los_Angeles:20191015T170000
DTSTAMP:20260423T141422
CREATED:20190306T001143Z
LAST-MODIFIED:20190306T001143Z
UID:1097-1570986000-1571158800@lacareerpathwayspartnership.com
SUMMARY:2019 NACEP National Conference
DESCRIPTION:Salt Lake City Marriott Downtown at City Creek \n75 South West Temple\, Salt Lake City\, Utah 84101
URL:https://lacareerpathwayspartnership.com/event/2019-nacep-national-conference/
LOCATION:Salt Lake City Marriott
CATEGORIES:Conference
END:VEVENT
BEGIN:VEVENT
DTSTART;TZID=America/Los_Angeles:20191016T080000
DTEND;TZID=America/Los_Angeles:20191018T170000
DTSTAMP:20260423T141422
CREATED:20190305T234830Z
LAST-MODIFIED:20190305T234830Z
UID:1090-1571212800-1571418000@lacareerpathwayspartnership.com
SUMMARY:CCCAOE 2019 Fall Conference
DESCRIPTION:
URL:https://lacareerpathwayspartnership.com/event/cccaoe-2019-fall-conference/
LOCATION:Omni Rancho Las Palmas\, Rancho MIrage\, CA
END:VEVENT
BEGIN:VEVENT
DTSTART;TZID=America/Los_Angeles:20191023T150000
DTEND;TZID=America/Los_Angeles:20191023T160000
DTSTAMP:20260423T141422
CREATED:20190722T211940Z
LAST-MODIFIED:20190806T220032Z
UID:1167-1571842800-1571846400@lacareerpathwayspartnership.com
SUMMARY:LA Co. Career Pathways Specialist Conference Call
DESCRIPTION:Join from PC\, Mac\, Linux\, iOS or Android: https://cccconfer.zoom.us/j/569783282 \nOr iPhone one-tap (US Toll):  +16699006833\,569783282#  or +16468769923\,569783282# \nOr Telephone: \nDial:  +1 669 900 6833 (US Toll) \n+1 646 876 9923 (US Toll) \nMeeting ID: 569 783 282 \nInternational numbers available: https://zoom.us/u/adloYsAZs \nOr Skype for Business (Lync): \nSIP:569783282@lync.zoom.us
URL:https://lacareerpathwayspartnership.com/event/la-co-career-pathways-specialist-conference-call-2/
CATEGORIES:Conference Call
END:VEVENT
BEGIN:VEVENT
DTSTART;TZID=America/Los_Angeles:20191029T000000
DTEND;TZID=America/Los_Angeles:20191030T000000
DTSTAMP:20260423T141422
CREATED:20190819T162029Z
LAST-MODIFIED:20190819T162253Z
UID:1195-1572307200-1572393600@lacareerpathwayspartnership.com
SUMMARY:CAEP Summit 2019
DESCRIPTION:October 29–30\, 2019\nHyatt Regency Orange County \nThe CAEP Summit 2019 is ideal for the teachers\, coordinators and administrators in the network external link of California adult education providers under the California Adult Education Program. \nThis event will offer relevant and new information through dynamic presentations with emphasis on working creatively and collaboratively to help ensure that California’s adult education students are well prepared for employment or further education. \n\n\n\n\n\n\nRegister to attend\nTell us who you are and register today. Registration is $295.00 and limited to 700 participants. Lunch is included Tuesday.\n\nThe registration fee is non-refundable \n\nThe conference room rate is $169 per night. Book today as rooms at this rate are limited! \nIf booking a room without using the URL\, use the following Group Code:  \nG-JSCE. \nSelf Parking has been reduced to $19.00 per car\, per day; Valet Parking is available at prevailing rates. \nTuesday\, October 29\n7:00 AM–7:00 PM \nWednesday\, October 30\n7:30 AM–12:30 PM \nCheck-in starts at 7:00 AM
URL:https://lacareerpathwayspartnership.com/event/caep-summit-2019/
LOCATION:Hyatt Regency Orange County\, 11999 Harbor Blvd.\, Garden Grove\, CA\, 92840\, United States
CATEGORIES:Conference
END:VEVENT
END:VCALENDAR