BEGIN:VCALENDAR
VERSION:2.0
PRODID:-//LA Career Pathways Partnership - ECPv6.15.17//NONSGML v1.0//EN
CALSCALE:GREGORIAN
METHOD:PUBLISH
X-WR-CALNAME:LA Career Pathways Partnership
X-ORIGINAL-URL:https://lacareerpathwayspartnership.com
X-WR-CALDESC:Events for LA Career Pathways Partnership
REFRESH-INTERVAL;VALUE=DURATION:PT1H
X-Robots-Tag:noindex
X-PUBLISHED-TTL:PT1H
BEGIN:VTIMEZONE
TZID:America/Los_Angeles
BEGIN:DAYLIGHT
TZOFFSETFROM:-0800
TZOFFSETTO:-0700
TZNAME:PDT
DTSTART:20170312T100000
END:DAYLIGHT
BEGIN:STANDARD
TZOFFSETFROM:-0700
TZOFFSETTO:-0800
TZNAME:PST
DTSTART:20171105T090000
END:STANDARD
BEGIN:DAYLIGHT
TZOFFSETFROM:-0800
TZOFFSETTO:-0700
TZNAME:PDT
DTSTART:20180311T100000
END:DAYLIGHT
BEGIN:STANDARD
TZOFFSETFROM:-0700
TZOFFSETTO:-0800
TZNAME:PST
DTSTART:20181104T090000
END:STANDARD
BEGIN:DAYLIGHT
TZOFFSETFROM:-0800
TZOFFSETTO:-0700
TZNAME:PDT
DTSTART:20190310T100000
END:DAYLIGHT
BEGIN:STANDARD
TZOFFSETFROM:-0700
TZOFFSETTO:-0800
TZNAME:PST
DTSTART:20191103T090000
END:STANDARD
END:VTIMEZONE
BEGIN:VEVENT
DTSTART;TZID=America/Los_Angeles:20181010T080000
DTEND;TZID=America/Los_Angeles:20181012T170000
DTSTAMP:20260424T111909
CREATED:20180629T210051Z
LAST-MODIFIED:20180629T210305Z
UID:960-1539158400-1539363600@lacareerpathwayspartnership.com
SUMMARY:CCCAOE Fall 2018 Conference
DESCRIPTION:Omni Rancho Las Palmas\n41000 Bob Hope Drive\nRancho Mirage\, CA 92270
URL:https://lacareerpathwayspartnership.com/event/cccaoe-fall-2018-conference/
LOCATION:Las Palmas\, Rancho MIrage\, CA
CATEGORIES:Conference
END:VEVENT
END:VCALENDAR