BEGIN:VCALENDAR
VERSION:2.0
PRODID:-//LA Career Pathways Partnership - ECPv6.15.17//NONSGML v1.0//EN
CALSCALE:GREGORIAN
METHOD:PUBLISH
X-ORIGINAL-URL:https://lacareerpathwayspartnership.com
X-WR-CALDESC:Events for LA Career Pathways Partnership
REFRESH-INTERVAL;VALUE=DURATION:PT1H
X-Robots-Tag:noindex
X-PUBLISHED-TTL:PT1H
BEGIN:VTIMEZONE
TZID:America/Los_Angeles
BEGIN:DAYLIGHT
TZOFFSETFROM:-0800
TZOFFSETTO:-0700
TZNAME:PDT
DTSTART:20170312T100000
END:DAYLIGHT
BEGIN:STANDARD
TZOFFSETFROM:-0700
TZOFFSETTO:-0800
TZNAME:PST
DTSTART:20171105T090000
END:STANDARD
BEGIN:DAYLIGHT
TZOFFSETFROM:-0800
TZOFFSETTO:-0700
TZNAME:PDT
DTSTART:20180311T100000
END:DAYLIGHT
BEGIN:STANDARD
TZOFFSETFROM:-0700
TZOFFSETTO:-0800
TZNAME:PST
DTSTART:20181104T090000
END:STANDARD
BEGIN:DAYLIGHT
TZOFFSETFROM:-0800
TZOFFSETTO:-0700
TZNAME:PDT
DTSTART:20190310T100000
END:DAYLIGHT
BEGIN:STANDARD
TZOFFSETFROM:-0700
TZOFFSETTO:-0800
TZNAME:PST
DTSTART:20191103T090000
END:STANDARD
END:VTIMEZONE
BEGIN:VTIMEZONE
TZID:UTC
BEGIN:STANDARD
TZOFFSETFROM:+0000
TZOFFSETTO:+0000
TZNAME:UTC
DTSTART:20170101T000000
END:STANDARD
END:VTIMEZONE
BEGIN:VEVENT
DTSTART;TZID=America/Los_Angeles:20180605T140000
DTEND;TZID=America/Los_Angeles:20180607T140000
DTSTAMP:20260424T183014
CREATED:20180409T185001Z
LAST-MODIFIED:20180409T185046Z
UID:920-1528207200-1528380000@lacareerpathwayspartnership.com
SUMMARY:Career Pathways Specialist Training Retreat
DESCRIPTION:
URL:https://lacareerpathwayspartnership.com/event/career-pathways-specialist-training-retreat/
LOCATION:UCLA Conference Center\, Lake Arrowhead
END:VEVENT
BEGIN:VEVENT
DTSTART;TZID=UTC:20180620T100000
DTEND;TZID=UTC:20180620T120000
DTSTAMP:20260424T183014
CREATED:20171117T174748Z
LAST-MODIFIED:20171117T174748Z
UID:845-1529488800-1529496000@lacareerpathwayspartnership.com
SUMMARY:SB1070 Steering Committee Meeting
DESCRIPTION:Quiet Cannon Banquet Center\n901 Via San Clemente\nMontebello\, CA  90640 \nContinental Breakfast and Lunch provided\nSelf Parking
URL:https://lacareerpathwayspartnership.com/event/sb1070-steering-committee-meeting-3/
LOCATION:Quiet Cannon\, Montebello\, CA
CATEGORIES:Meeting
END:VEVENT
END:VCALENDAR