BEGIN:VCALENDAR
VERSION:2.0
PRODID:-//LA Career Pathways Partnership - ECPv6.15.17//NONSGML v1.0//EN
CALSCALE:GREGORIAN
METHOD:PUBLISH
X-ORIGINAL-URL:https://lacareerpathwayspartnership.com
X-WR-CALDESC:Events for LA Career Pathways Partnership
REFRESH-INTERVAL;VALUE=DURATION:PT1H
X-Robots-Tag:noindex
X-PUBLISHED-TTL:PT1H
BEGIN:VTIMEZONE
TZID:UTC
BEGIN:STANDARD
TZOFFSETFROM:+0000
TZOFFSETTO:+0000
TZNAME:UTC
DTSTART:20160101T000000
END:STANDARD
END:VTIMEZONE
BEGIN:VEVENT
DTSTART;TZID=UTC:20171213T100000
DTEND;TZID=UTC:20171213T130000
DTSTAMP:20260425T043624
CREATED:20171117T174610Z
LAST-MODIFIED:20171117T174610Z
UID:842-1513159200-1513170000@lacareerpathwayspartnership.com
SUMMARY:SB1070 Steering Committee Meeting
DESCRIPTION:Quiet Cannon Banquet Center\n901 Via San Clemente\nMontebello\, CA  90640 \nContinental Breakfast and Lunch provided\nSelf Parking
URL:https://lacareerpathwayspartnership.com/event/sb1070-steering-committee-meeting-2/
LOCATION:Quiet Cannon\, Montebello\, CA
CATEGORIES:Meeting
END:VEVENT
END:VCALENDAR