BEGIN:VCALENDAR
VERSION:2.0
PRODID:-//LA Career Pathways Partnership - ECPv6.15.17//NONSGML v1.0//EN
CALSCALE:GREGORIAN
METHOD:PUBLISH
X-ORIGINAL-URL:https://lacareerpathwayspartnership.com
X-WR-CALDESC:Events for LA Career Pathways Partnership
REFRESH-INTERVAL;VALUE=DURATION:PT1H
X-Robots-Tag:noindex
X-PUBLISHED-TTL:PT1H
BEGIN:VTIMEZONE
TZID:America/Los_Angeles
BEGIN:DAYLIGHT
TZOFFSETFROM:-0800
TZOFFSETTO:-0700
TZNAME:PDT
DTSTART:20230312T100000
END:DAYLIGHT
BEGIN:STANDARD
TZOFFSETFROM:-0700
TZOFFSETTO:-0800
TZNAME:PST
DTSTART:20231105T090000
END:STANDARD
BEGIN:DAYLIGHT
TZOFFSETFROM:-0800
TZOFFSETTO:-0700
TZNAME:PDT
DTSTART:20240310T100000
END:DAYLIGHT
BEGIN:STANDARD
TZOFFSETFROM:-0700
TZOFFSETTO:-0800
TZNAME:PST
DTSTART:20241103T090000
END:STANDARD
BEGIN:DAYLIGHT
TZOFFSETFROM:-0800
TZOFFSETTO:-0700
TZNAME:PDT
DTSTART:20250309T100000
END:DAYLIGHT
BEGIN:STANDARD
TZOFFSETFROM:-0700
TZOFFSETTO:-0800
TZNAME:PST
DTSTART:20251102T090000
END:STANDARD
BEGIN:DAYLIGHT
TZOFFSETFROM:-0800
TZOFFSETTO:-0700
TZNAME:PDT
DTSTART:20260308T100000
END:DAYLIGHT
BEGIN:STANDARD
TZOFFSETFROM:-0700
TZOFFSETTO:-0800
TZNAME:PST
DTSTART:20261101T090000
END:STANDARD
END:VTIMEZONE
BEGIN:VEVENT
DTSTART;VALUE=DATE:20241120
DTEND;VALUE=DATE:20241121
DTSTAMP:20260419T171942
CREATED:20240828T192821Z
LAST-MODIFIED:20240828T192821Z
UID:3641-1732060800-1732147199@lacareerpathwayspartnership.com
SUMMARY:Revolutionizing CTE Instruction: Unlocking the Potential of Students and the Global Workforce of the Future - November 20th
DESCRIPTION:Catapult Masterclass #5:\nRevolutionizing CTE Instruction: Unlocking the Potential of Students and the Global Workforce of the Future\nSpeaker: Sylvester Chisom (CEO and Founder of Global CTE Learning)\nWhen: November 20th\, 2024\nTime/Link: TBD \nAbout:\nRevolutionizing CTE Instruction: Unlocking the Potential of Students for the Global Workforce of the Future\nSylvester Chisom\nCEO and Founder of Global CTE Learning\nTransform your CTE instruction and empower your students with durable skills for lifelong success! In this session\, we’ll explore practical strategies for developing durable skills such as problem-solving\, critical thinking\, emotional intelligence\, communication\, collaboration\, and adaptability. We’ll also discuss best practices for integrating real-world\, project-based learning and technology into your instruction\, collaborating with industry partners\, and addressing the diverse needs of your students. By the end of this session\, you’ll have actionable ideas to save you time and effort while making your CTE instruction more engaging and effective. Get ready to unlock your students’ potential and prepare them for success in any career they choose!
URL:https://lacareerpathwayspartnership.com/event/revolutionizing-cte-instruction-unlocking-the-potential-of-students-and-the-global-workforce-of-the-future-november-20th/
CATEGORIES:MasterClass
ATTACH;FMTTYPE=image/png:https://lacareerpathwayspartnership.com/wp-content/uploads/2024/08/Screenshot-2024-08-28-122740.png
END:VEVENT
BEGIN:VEVENT
DTSTART;TZID=America/Los_Angeles:20241211T093000
DTEND;TZID=America/Los_Angeles:20241211T133000
DTSTAMP:20260419T171942
CREATED:20240722T184318Z
LAST-MODIFIED:20240724T004349Z
UID:3566-1733909400-1733923800@lacareerpathwayspartnership.com
SUMMARY:CPP Quarterly Meeting - 12/11/24 (Quiet Cannon)
DESCRIPTION:Career Pathways Quarterly Meeting  \nDate: December 11\, 2024 \nLocation: Quiet Cannon\n          901 Via San Clemente\n          Montebello\, CA 90640 \nTime: TBA  \nMore details coming soon!
URL:https://lacareerpathwayspartnership.com/event/cpp-quarterly-meeting-12-11-24-quiet-cannon/
LOCATION:Quiet Cannon\, Montebello\, CA
CATEGORIES:Meeting
END:VEVENT
BEGIN:VEVENT
DTSTART;TZID=America/Los_Angeles:20250108T150000
DTEND;TZID=America/Los_Angeles:20250108T160000
DTSTAMP:20260419T171942
CREATED:20240723T181844Z
LAST-MODIFIED:20240724T004315Z
UID:3578-1736348400-1736352000@lacareerpathwayspartnership.com
SUMMARY:CPP Conference Call - 1/8/25 (Zoom)
DESCRIPTION:CPP Conference Call  \nWhen: January 8\, 2025 \nTime: 3 PM – 4 PM \nZoom Meeting Link TBA
URL:https://lacareerpathwayspartnership.com/event/cpp-conference-call-1-8-25-zoom/
CATEGORIES:Conference Call
END:VEVENT
BEGIN:VEVENT
DTSTART;TZID=America/Los_Angeles:20250212T150000
DTEND;TZID=America/Los_Angeles:20250212T160000
DTSTAMP:20260419T171942
CREATED:20240723T225553Z
LAST-MODIFIED:20240724T004304Z
UID:3580-1739372400-1739376000@lacareerpathwayspartnership.com
SUMMARY:CPP Conference Call - 2/12/25 (Zoom)
DESCRIPTION:CPP Conference Call  \nWhen: February 12\, 2025 \nTime: 3 PM – 4 PM \nZoom Meeting Link TBA
URL:https://lacareerpathwayspartnership.com/event/cpp-conference-call-2-12-25-zoom/
CATEGORIES:Conference Call
END:VEVENT
BEGIN:VEVENT
DTSTART;VALUE=DATE:20250223
DTEND;VALUE=DATE:20250227
DTSTAMP:20260419T171942
CREATED:20240610T190137Z
LAST-MODIFIED:20240610T190137Z
UID:3508-1740268800-1740614399@lacareerpathwayspartnership.com
SUMMARY:CDEEC 2025
DESCRIPTION:Save the date for the 2025 California Dual Enrollment Equity Conference! \nFebruary 23-February 26\, 2025 \nAt the Hyatt Regency Sacramento \nPreview the 2025 Conference Schedule\nhttps://drive.google.com/file/d/1MldSpnrsHJNqjCqW7sbjxsB-3PwAMTHs/view \nNow Accepting Breakout Session Proposals\nhttps://docs.google.com/forms/d/e/1FAIpQLSeFGgknKZgJ3LugBEKNqMUKPI2MRjjmaNNHO6Zce9cEbDWuoQ/viewform \nSeeking 2025 Conference Sponsors\n https://docs.google.com/forms/d/e/1FAIpQLSdzQ4RD78UTwFy3Wy5oG6B5sZ21m7GnaFSvgxEJfeAff70OYA/viewform \nRegistration and additional conference details coming soon! \nPlease email us at event@careerladdersproject.org if you have any questions.
URL:https://lacareerpathwayspartnership.com/event/cdeec-2025/
END:VEVENT
BEGIN:VEVENT
DTSTART;VALUE=DATE:20250302
DTEND;VALUE=DATE:20250305
DTSTAMP:20260419T171942
CREATED:20240614T003033Z
LAST-MODIFIED:20240614T003033Z
UID:3515-1740873600-1741132799@lacareerpathwayspartnership.com
SUMMARY:Educating for Careers Conference 2025
DESCRIPTION:March 2nd – 4th 2025
URL:https://lacareerpathwayspartnership.com/event/educating-for-careers-conference-2025/
END:VEVENT
BEGIN:VEVENT
DTSTART;TZID=America/Los_Angeles:20250319T093000
DTEND;TZID=America/Los_Angeles:20250319T133000
DTSTAMP:20260419T171942
CREATED:20240722T210918Z
LAST-MODIFIED:20241029T184128Z
UID:3568-1742376600-1742391000@lacareerpathwayspartnership.com
SUMMARY:CPP Quarterly Meeting - 3/19/25 (Quiet Cannon)
DESCRIPTION:Career Pathways Quarterly Meeting  \nDate: March 20\, 2025 \nLocation: Quiet Cannon\n          901 Via San Clemente\n          Montebello\, CA 90640 \nTime: TBA  \nMore details coming soon!
URL:https://lacareerpathwayspartnership.com/event/cpp-quarterly-meeting-3-20-25-quiet-cannon/
LOCATION:Quiet Cannon\, Montebello\, CA
CATEGORIES:Meeting
END:VEVENT
BEGIN:VEVENT
DTSTART;VALUE=DATE:20250409
DTEND;VALUE=DATE:20250412
DTSTAMP:20260419T171942
CREATED:20240614T001704Z
LAST-MODIFIED:20240614T001704Z
UID:3513-1744156800-1744415999@lacareerpathwayspartnership.com
SUMMARY:CCCAOE Spring 2025 Conference (Sacramento)
DESCRIPTION:SPRING 2025 CONFERENCE\nApril 9\, 2025 @ 8:00 am – April 11\, 2025 @ 12:00 pm\nCCCAOE’s Spring 2025 Conference – Sacramento – April 9 – 11\, 2025
URL:https://lacareerpathwayspartnership.com/event/cccaoe-spring-2025-conference-sacramento/
END:VEVENT
BEGIN:VEVENT
DTSTART;TZID=America/Los_Angeles:20250416T150000
DTEND;TZID=America/Los_Angeles:20250416T160000
DTSTAMP:20260419T171942
CREATED:20240724T004238Z
LAST-MODIFIED:20240724T004238Z
UID:3583-1744815600-1744819200@lacareerpathwayspartnership.com
SUMMARY:CPP Conference Call - 4/16/25 (Zoom)
DESCRIPTION:CPP Conference Call  \nWhen: April 16\, 2025 \nTime: 3 PM – 4 PM \nZoom Meeting Link TBA
URL:https://lacareerpathwayspartnership.com/event/cpp-conference-call-4-16-25-zoom/
CATEGORIES:Conference Call
END:VEVENT
BEGIN:VEVENT
DTSTART;TZID=America/Los_Angeles:20250512T080000
DTEND;TZID=America/Los_Angeles:20250514T170000
DTSTAMP:20260419T171942
CREATED:20241029T184406Z
LAST-MODIFIED:20241029T184406Z
UID:3720-1747036800-1747242000@lacareerpathwayspartnership.com
SUMMARY:CPP Arrowhead Retreat - May 12 - May 14\, 2025
DESCRIPTION:Arrowhead Save The Date ’25
URL:https://lacareerpathwayspartnership.com/event/cpp-arrowhead-retreat-may-12-may-14-2025/
LOCATION:UCLA Conference Center\, Lake Arrowhead
CATEGORIES:Retreat
END:VEVENT
BEGIN:VEVENT
DTSTART;TZID=America/Los_Angeles:20250611T150000
DTEND;TZID=America/Los_Angeles:20250611T160000
DTSTAMP:20260419T171942
CREATED:20240724T164027Z
LAST-MODIFIED:20240729T212952Z
UID:3593-1749654000-1749657600@lacareerpathwayspartnership.com
SUMMARY:CPP Conference Call - 6/11/25 (Zoom)
DESCRIPTION:CPP Conference Call  \nWhen: June 11\, 2025 \nTime: 3 PM – 4 PM \nZoom Meeting Link TBA
URL:https://lacareerpathwayspartnership.com/event/cpp-conference-call-6-11-25-zoom/
CATEGORIES:Conference Call
END:VEVENT
END:VCALENDAR