BEGIN:VCALENDAR
VERSION:2.0
PRODID:-//LA Career Pathways Partnership - ECPv6.15.17//NONSGML v1.0//EN
CALSCALE:GREGORIAN
METHOD:PUBLISH
X-WR-CALNAME:LA Career Pathways Partnership
X-ORIGINAL-URL:https://lacareerpathwayspartnership.com
X-WR-CALDESC:Events for LA Career Pathways Partnership
REFRESH-INTERVAL;VALUE=DURATION:PT1H
X-Robots-Tag:noindex
X-PUBLISHED-TTL:PT1H
BEGIN:VTIMEZONE
TZID:America/Los_Angeles
BEGIN:DAYLIGHT
TZOFFSETFROM:-0800
TZOFFSETTO:-0700
TZNAME:PDT
DTSTART:20230312T100000
END:DAYLIGHT
BEGIN:STANDARD
TZOFFSETFROM:-0700
TZOFFSETTO:-0800
TZNAME:PST
DTSTART:20231105T090000
END:STANDARD
BEGIN:DAYLIGHT
TZOFFSETFROM:-0800
TZOFFSETTO:-0700
TZNAME:PDT
DTSTART:20240310T100000
END:DAYLIGHT
BEGIN:STANDARD
TZOFFSETFROM:-0700
TZOFFSETTO:-0800
TZNAME:PST
DTSTART:20241103T090000
END:STANDARD
BEGIN:DAYLIGHT
TZOFFSETFROM:-0800
TZOFFSETTO:-0700
TZNAME:PDT
DTSTART:20250309T100000
END:DAYLIGHT
BEGIN:STANDARD
TZOFFSETFROM:-0700
TZOFFSETTO:-0800
TZNAME:PST
DTSTART:20251102T090000
END:STANDARD
END:VTIMEZONE
BEGIN:VTIMEZONE
TZID:America/Los_Angeles
BEGIN:DAYLIGHT
TZOFFSETFROM:-0800
TZOFFSETTO:-0700
TZNAME:PDT
DTSTART:20210314T100000
END:DAYLIGHT
BEGIN:STANDARD
TZOFFSETFROM:-0700
TZOFFSETTO:-0800
TZNAME:PST
DTSTART:20211107T090000
END:STANDARD
BEGIN:DAYLIGHT
TZOFFSETFROM:-0800
TZOFFSETTO:-0700
TZNAME:PDT
DTSTART:20220313T100000
END:DAYLIGHT
BEGIN:STANDARD
TZOFFSETFROM:-0700
TZOFFSETTO:-0800
TZNAME:PST
DTSTART:20221106T090000
END:STANDARD
BEGIN:DAYLIGHT
TZOFFSETFROM:-0800
TZOFFSETTO:-0700
TZNAME:PDT
DTSTART:20230312T100000
END:DAYLIGHT
BEGIN:STANDARD
TZOFFSETFROM:-0700
TZOFFSETTO:-0800
TZNAME:PST
DTSTART:20231105T090000
END:STANDARD
BEGIN:DAYLIGHT
TZOFFSETFROM:-0800
TZOFFSETTO:-0700
TZNAME:PDT
DTSTART:20240310T100000
END:DAYLIGHT
BEGIN:STANDARD
TZOFFSETFROM:-0700
TZOFFSETTO:-0800
TZNAME:PST
DTSTART:20241103T090000
END:STANDARD
BEGIN:DAYLIGHT
TZOFFSETFROM:-0800
TZOFFSETTO:-0700
TZNAME:PDT
DTSTART:20250309T100000
END:DAYLIGHT
BEGIN:STANDARD
TZOFFSETFROM:-0700
TZOFFSETTO:-0800
TZNAME:PST
DTSTART:20251102T090000
END:STANDARD
END:VTIMEZONE
BEGIN:VEVENT
DTSTART;VALUE=DATE:20241023
DTEND;VALUE=DATE:20241026
DTSTAMP:20260419T223214
CREATED:20240614T001200Z
LAST-MODIFIED:20240614T001200Z
UID:3511-1729641600-1729900799@lacareerpathwayspartnership.com
SUMMARY:CCCAOE Fall 2024 Conference (Palm Springs)
DESCRIPTION:FALL 2024 CONFERENCE\nOctober 23 @ 8:00 am – October 25 @ 12:00 pm\nCCCAOE’s Fall 2024 Conference – Palm Springs – October 23 – 25\, 2024 – OMNI Rancho Las Palmas
URL:https://lacareerpathwayspartnership.com/event/cccaoe-fall-2024-conference-palm-springs/
LOCATION:Omni Rancho Las Palmas\, Rancho MIrage\, CA
END:VEVENT
BEGIN:VEVENT
DTSTART;VALUE=DATE:20241016
DTEND;VALUE=DATE:20241017
DTSTAMP:20260419T223214
CREATED:20240827T172623Z
LAST-MODIFIED:20240827T224639Z
UID:3619-1729036800-1729123199@lacareerpathwayspartnership.com
SUMMARY:Unleashing the Power of the CTE Delivery Model - October 16th
DESCRIPTION:Catapult Masterclass #2:\nUnleashing the Power of the CTE Delivery Model\nSpeaker: John Mulcahey\nWhen: October 16th\, 2024\nTime/Link: TBD \nAbout:\nDr. John Mulcahy\nEducator\, CTE Evangelist\nCareer and Technical Education holds the promise to significantly transform student outcomes\, but only if the total CTE delivery model is implemented with fidelity.  This means employing quality classroom and laboratory instruction.  But it also means availing work-based learning opportunities and participation in CTE student organizations to every CTE student. It means genuine community engagement and academic integration.  Implemented with fidelity\, the CTE delivery model promises enhanced student outcomes related to engagement\, transition and achievement. Employing the total CTE delivery model is the key to improving CTE.
URL:https://lacareerpathwayspartnership.com/event/unleashing-the-power-of-the-cte-delivery-model-october-16th/
CATEGORIES:MasterClass
ATTACH;FMTTYPE=image/png:https://lacareerpathwayspartnership.com/wp-content/uploads/2024/08/Screenshot-2024-08-27-102654.png
END:VEVENT
BEGIN:VEVENT
DTSTART;TZID=America/Los_Angeles:20241009T150000
DTEND;TZID=America/Los_Angeles:20241009T160000
DTSTAMP:20260419T223214
CREATED:20240723T153325Z
LAST-MODIFIED:20240724T004416Z
UID:3573-1728486000-1728489600@lacareerpathwayspartnership.com
SUMMARY:CPP Conference Call - 10/9/24 (Zoom)
DESCRIPTION:CPP Conference Call  \nWhen: October 9\, 2024  \nTime: 3 PM – 4 PM \nZoom Meeting Link TBA
URL:https://lacareerpathwayspartnership.com/event/cpp-conference-call-10-9-24-zoom/
CATEGORIES:Conference Call
END:VEVENT
BEGIN:VEVENT
DTSTART;VALUE=DATE:20241008
DTEND;VALUE=DATE:20241011
DTSTAMP:20260419T223214
CREATED:20240813T211455Z
LAST-MODIFIED:20240813T215044Z
UID:3601-1728345600-1728604799@lacareerpathwayspartnership.com
SUMMARY:2024 NCWE Annual Meeting
DESCRIPTION:NCWE Annual Conference:\nFuture-Proofing Workforce Education  \nWhen: October 8-10\, 2024 \nSchedule:\nOctober 8: Pre-Conference\nOctober 9-10: General Session \nWhere: Hyatt Regency Minneapolis\, MN
URL:https://lacareerpathwayspartnership.com/event/2024-ncwe-annual-meeting/
LOCATION:Hyatt Regency Minneapolis\, 1300 Nicollet Mall\, Minneapolis\, MN\, 90640\, United States
CATEGORIES:Conference
END:VEVENT
BEGIN:VEVENT
DTSTART;VALUE=DATE:20241002
DTEND;VALUE=DATE:20241003
DTSTAMP:20260419T223214
CREATED:20240827T172312Z
LAST-MODIFIED:20240827T192342Z
UID:3614-1727827200-1727913599@lacareerpathwayspartnership.com
SUMMARY:Pack Your Bags for Our AI Future - October 2nd
DESCRIPTION:Catapult Masterclass #1:\nPack Your Bags for Our AI Future\nSpeaker: Rachael Mann\nWhen: October 2nd\, 2024\nTime/Link: TBD \nAbout:\nRachael Mann\nKeynote Speaker | Author of The Things You’ll Grow\, The Spaces You’ll Go\, The Martians in Your Classroom\, The CTSO Competition Companion | 2022 Top 30 Global Gurus\nIn this keynote\, Rachael Mann will illuminate the exciting future of AI and how it is transforming our world. She will discuss the implications of AI in different industries and how educators and students can prepare for the opportunities and challenges presented by this rapidly evolving technology. Drawing on her research and experiences in the field\, she will provide concrete examples of how AI is currently being used and how it can be best leveraged in the future. Rachael will also provide educators with a roadmap for teaching students about AI\, offering actionable steps to help them succeed in an ever-evolving technological landscape. Through her inspiring words\, innovative ideas\, and complex analysis\, Rachael Mann will provide viewers with an invaluable opportunity to learn about the power of AI and how it is shaping our future.
URL:https://lacareerpathwayspartnership.com/event/pack-your-bags-for-our-ai-future-october-2nd/
CATEGORIES:MasterClass
ATTACH;FMTTYPE=image/png:https://lacareerpathwayspartnership.com/wp-content/uploads/2024/08/Screenshot-2024-08-27-122246.png
END:VEVENT
BEGIN:VEVENT
DTSTART;TZID=America/Los_Angeles:20240918T093000
DTEND;TZID=America/Los_Angeles:20240918T133000
DTSTAMP:20260419T223214
CREATED:20240719T004400Z
LAST-MODIFIED:20240722T211058Z
UID:3561-1726651800-1726666200@lacareerpathwayspartnership.com
SUMMARY:CPP Quarterly Meeting-9/18/24 (Quiet Cannon)
DESCRIPTION:Career Pathways Quarterly Meeting  \nDate: September 18\, 2024 \nLocation: Quiet Cannon\n          901 Via San Clemente\n          Montebello\, CA 90640 \nTime: TBA  \nMore details coming soon!
URL:https://lacareerpathwayspartnership.com/event/cpp-quarterly-meeting-9-18-24-quiet-cannon/
LOCATION:Quiet Cannon\, Montebello\, CA
CATEGORIES:Meeting
END:VEVENT
BEGIN:VEVENT
DTSTART;TZID=America/Los_Angeles:20240814T150000
DTEND;TZID=America/Los_Angeles:20240814T160000
DTSTAMP:20260419T223214
CREATED:20240723T002310Z
LAST-MODIFIED:20240723T002310Z
UID:3570-1723647600-1723651200@lacareerpathwayspartnership.com
SUMMARY:CPP Conference Call - 8/14/24 (Zoom)
DESCRIPTION:CPP Conference Call  \nWhen: August 14\, 2024  \nTime: 3 PM – 4 PM \nZoom Meeting Link TBA
URL:https://lacareerpathwayspartnership.com/event/cpp-conference-call-8-14-24-zoom/
CATEGORIES:Conference Call
END:VEVENT
BEGIN:VEVENT
DTSTART;TZID=America/Los_Angeles:20240617T080000
DTEND;TZID=America/Los_Angeles:20240619T120000
DTSTAMP:20260419T223214
CREATED:20240404T205846Z
LAST-MODIFIED:20240425T232026Z
UID:3481-1718611200-1718798400@lacareerpathwayspartnership.com
SUMMARY:Career Pathways Leadership - COL Summer 24 Institutes
DESCRIPTION:We’re excited to unveil our newly updated Career Pathways Leadership Certification series designed to empower career technical education\, adult education\, counseling\, corrections\, and workforce development professionals in building career pathways that are industry-informed and learner-focused. \n﻿We encourage you and your team to join us in beautiful downtown Denver for this immersive professional development experience. Be certified this summer and get a jumpstart on your career pathways action plan for 2024–2025! \nDates: June 17–18\, 2024 \nLocation: King Center on the Auroria Campus. The event hotel (Springhill Suites Marriott – Denver Downtown at MSU Denver) is a ten-minute walk. \nFee: $599 (includes continental breakfast on both days and lunch on Day 1) \nSchedule: \n·    Day 1: 8:00 a.m.–4:00 p.m. \n·    Day 2: 8:00 a.m.–Noon \nRegistration Deadline: June 3\, or when workshops reach capacity \nSignificant discount for TEAMs of FIVE or more! \nTo register your TEAM\, contact workshops@cord.org.
URL:https://lacareerpathwayspartnership.com/event/career-pathways-leadership-col-summer-24-institutes/
CATEGORIES:Workshop
END:VEVENT
BEGIN:VEVENT
DTSTART;VALUE=DATE:20240520
DTEND;VALUE=DATE:20240523
DTSTAMP:20260419T223214
CREATED:20240111T185947Z
LAST-MODIFIED:20240425T230704Z
UID:3443-1716163200-1716422399@lacareerpathwayspartnership.com
SUMMARY:LA Co. Career Pathways Partnership Retreat
DESCRIPTION:CPP Arrowhead Invite 2024 (1) \n  \nCPP Arrowhead Participant Form_5.20.24
URL:https://lacareerpathwayspartnership.com/event/la-co-career-pathways-partnership-retreat/
LOCATION:UCLA Conference Center\, Lake Arrowhead
END:VEVENT
BEGIN:VEVENT
DTSTART;TZID=America/Los_Angeles:20240424T080000
DTEND;TZID=America/Los_Angeles:20240426T170000
DTSTAMP:20260419T223214
CREATED:20240111T184153Z
LAST-MODIFIED:20240425T230708Z
UID:3434-1713945600-1714150800@lacareerpathwayspartnership.com
SUMMARY:CCCAOE Spring 2024
DESCRIPTION:SPRING 2024 CONFERENCE
URL:https://lacareerpathwayspartnership.com/event/cccaoe-spring-2024/
END:VEVENT
BEGIN:VEVENT
DTSTART;TZID=America/Los_Angeles:20240419T093000
DTEND;TZID=America/Los_Angeles:20240419T183000
DTSTAMP:20260419T223214
CREATED:20240404T211350Z
LAST-MODIFIED:20240404T211350Z
UID:3484-1713519000-1713551400@lacareerpathwayspartnership.com
SUMMARY:Registration is Open! Blue Economy and Climate Action Pathways Kick Off and Conference - April 19\, 2024
DESCRIPTION:Santa Monica College\, in partnership with the California Community Colleges Chancellor’s Office and their partners\, invite you to join us for the Blue Economy and Climate Action Pathways (BECAP) Kick Off and Conference. The BECAP Regional Project aims to meet the emerging employment demands in ocean-related labor markets that are aligned with climate action and environmental justice priorities.  Event Details Date: April 19\, 2024 Venue: AltaSea\, San Pedro Time: 9:30 am – 6:30 pm Registration: https://californiacommunitycolleges.cventevents.com/event/BlueEconomyClimateActionPathwaysKickOff/websitePage:4434a09e-9d97-4104-8f75-4a17d2c6f96d  [https://californiacommunitycolleges.cventevents.com/event/BlueEconomyClimateActionPathwaysKickOff/websitePage:4434a09e-9d97-4104-8f75-4a17d2c6f96d]. The Chancellor’s Office is committed to providing access and reasonable accommodation in its services\, programs and events. Accommodation requests related to a disability should be made by April 5\, 2024 to the Conferences and Events team at conferences@foundationccc.org. \nSanta Monica College\, in partnership with the California Community Colleges Chancellor’s Office and their partners\, invite you to join us for the Blue Economy and Climate Action Pathways (BECAP) Kick Off and Conference. The BECAP Regional Project aims to meet the emerging employment demands in ocean-related labor markets that are aligned with climate action and environmental justice priorities.  \nEvent Details \nDate: April 19\, 2024 \nVenue: AltaSea\, San Pedro \nTime: 9:30 am – 6:30 pm \nRegistration: https://californiacommunitycolleges.cventevents.com/event/BlueEconomyClimateActionPathwaysKickOff/websitePage:4434a09e-9d97-4104-8f75-4a17d2c6f96d . \nThe Chancellor’s Office is committed to providing access and reasonable accommodation in its services\, programs and events. Accommodation requests related to a disability should be made by April 5\, 2024 to the Conferences and Events team at conferences@foundationccc.org.
URL:https://lacareerpathwayspartnership.com/event/registration-is-open-blue-economy-and-climate-action-pathways-kick-off-and-conference-april-19-2024/
CATEGORIES:Conference
END:VEVENT
BEGIN:VEVENT
DTSTART;TZID=America/Los_Angeles:20240417T150000
DTEND;TZID=America/Los_Angeles:20240417T160000
DTSTAMP:20260419T223214
CREATED:20240111T185029Z
LAST-MODIFIED:20240111T185029Z
UID:3439-1713366000-1713369600@lacareerpathwayspartnership.com
SUMMARY:Topic LA CO Career Pathways Partnership Conference Call | April
DESCRIPTION:Topic LA CO Career Pathways Partnership Conference Call | April\n\n\n\n\n\nTime\nTime \n\nApr 17\, 2024 03:00 PM Pacific Time (US and Canada) \nEvery month on the Third Wed\, 4 occurrence(s)Show all occurrences\n\n\n\n\n\n\n\nMeeting ID\nMeeting ID \n819 1364 4686 \n\n\n\n\n\n\n\n\n\n\n\n\n\n\n\n\n\n\n\n\n\n\n\nInvite Link\nInvite Link https://riohondo-edu.zoom.us/j/81913644686?pwd=OUtneEpZTEtKTS9uYk1Fa25SM0l1Zz09 \nhttps://riohondo-edu.zoom.us/j/81913644686?pwd=OUtneEpZTEtKTS9uYk1Fa25SM0l1Zz09 
URL:https://lacareerpathwayspartnership.com/event/topic-la-co-career-pathways-partnership-conference-call-april/
END:VEVENT
BEGIN:VEVENT
DTSTART;TZID=America/Los_Angeles:20240408T080000
DTEND;TZID=America/Los_Angeles:20240411T170000
DTSTAMP:20260419T223214
CREATED:20240104T211110Z
LAST-MODIFIED:20240104T211110Z
UID:3430-1712563200-1712854800@lacareerpathwayspartnership.com
SUMMARY:2024 Linked Learning Conference
DESCRIPTION:Titled Pathmakers: Leading the Way to Prosperity\, Equity\, Purpose\, this year’s event is about breaking down systemic barriers in learning and in life to chart powerful paths forward. \nWe hope to see you there! Join educators\, employers\, community leaders\, policymakers\, and researchers from across California and the U.S. At the conference\, we will connect on path-making strategies to transform our education systems\, meaningfully engage young people\, and develop the workforce of the future.
URL:https://lacareerpathwayspartnership.com/event/2024-linked-learning-conference/
CATEGORIES:Conference
END:VEVENT
BEGIN:VEVENT
DTSTART;TZID=America/Los_Angeles:20240320T090000
DTEND;TZID=America/Los_Angeles:20240320T133000
DTSTAMP:20260419T223214
CREATED:20230928T192135Z
LAST-MODIFIED:20240313T163944Z
UID:3389-1710925200-1710941400@lacareerpathwayspartnership.com
SUMMARY:LA Co Career Pathways Partnership Quarterly Meeting
DESCRIPTION:CPPMarchMeetingInvite_2024
URL:https://lacareerpathwayspartnership.com/event/la-co-career-pathways-partnership-quarterly-meeting-2/
LOCATION:Quiet Cannon\, Montebello\, CA
END:VEVENT
BEGIN:VEVENT
DTSTART;TZID=America/Los_Angeles:20240221T150000
DTEND;TZID=America/Los_Angeles:20240221T160000
DTSTAMP:20260419T223214
CREATED:20240111T184610Z
LAST-MODIFIED:20240111T184639Z
UID:3436-1708527600-1708531200@lacareerpathwayspartnership.com
SUMMARY:LA CO Career Pathways Partnership Conference Call | February
DESCRIPTION:Topic LA CO Career Pathways Partnership Conference Call \n\n\n\n\n\n\n\nTime \n\nFeb 21\, 2024 03:00 PM Pacific Time (US and Canada) \nEvery month on the Third Wed\, 4 occurrence(s)Show all occurrences\n\n\n\n\n\n\n\n\nMeeting ID \n819 1364 4686 \n\n\n\n\n\n\nInvite Link\n\nInvite Link https://riohondo-edu.zoom.us/j/81913644686?pwd=OUtneEpZTEtKTS9uYk1Fa25SM0l1Zz09 \nhttps://riohondo-edu.zoom.us/j/81913644686?pwd=OUtneEpZTEtKTS9uYk1Fa25SM0l1Zz09 
URL:https://lacareerpathwayspartnership.com/event/la-co-career-pathways-partnership-conference-call-february/
END:VEVENT
BEGIN:VEVENT
DTSTART;TZID=America/Los_Angeles:20240220T080000
DTEND;TZID=America/Los_Angeles:20240223T170000
DTSTAMP:20260419T223214
CREATED:20231117T233302Z
LAST-MODIFIED:20231117T233302Z
UID:3418-1708416000-1708707600@lacareerpathwayspartnership.com
SUMMARY:2nd Annual California Dual Enrollment Equity Conference
DESCRIPTION:The California Alliance of Dual Enrollment Partnerships\, Career Ladders Project\, and The Education Trust–West present the 2nd Annual California Dual Enrollment Equity Conference at the Westin Long Beach. First-time attendee? Learn more about sessions and speakers from our 2023 conference by exploring the 2023 California Dual Enrollment Equity Conference official program. \nLocation: Westin Long Beach\, 333 E Ocean Blvd\, Long Beach\, CA 90802 \nCalifornia Dual Enrollment Equity Conference
URL:https://lacareerpathwayspartnership.com/event/2nd-annual-california-dual-enrollment-equity-conference/
LOCATION:Westin Long Beach
END:VEVENT
BEGIN:VEVENT
DTSTART;TZID=America/Los_Angeles:20240126T093000
DTEND;TZID=America/Los_Angeles:20240126T133000
DTSTAMP:20260419T223214
CREATED:20231117T234719Z
LAST-MODIFIED:20231117T234719Z
UID:3423-1706261400-1706275800@lacareerpathwayspartnership.com
SUMMARY:LA Career Finder Counselor Event
DESCRIPTION:Details coming soon
URL:https://lacareerpathwayspartnership.com/event/la-career-finder-counselor-event/
LOCATION:Quiet Cannon\, Montebello\, CA
END:VEVENT
BEGIN:VEVENT
DTSTART;TZID=America/Los_Angeles:20240117T150000
DTEND;TZID=America/Los_Angeles:20240117T160000
DTSTAMP:20260419T223214
CREATED:20240111T183919Z
LAST-MODIFIED:20240111T183919Z
UID:3432-1705503600-1705507200@lacareerpathwayspartnership.com
SUMMARY:LA CO Career Pathways Partnership Conference Call
DESCRIPTION:  \n 
URL:https://lacareerpathwayspartnership.com/event/la-co-career-pathways-partnership-conference-call-7/
CATEGORIES:Conference Call
END:VEVENT
BEGIN:VEVENT
DTSTART;TZID=America/Los_Angeles:20231213T093000
DTEND;TZID=America/Los_Angeles:20231213T133000
DTSTAMP:20260419T223214
CREATED:20230927T214934Z
LAST-MODIFIED:20231117T233458Z
UID:3387-1702459800-1702474200@lacareerpathwayspartnership.com
SUMMARY:LA Co Career Pathways Partnership Quarterly Meeting
DESCRIPTION:
URL:https://lacareerpathwayspartnership.com/event/la-co-career-pathways-partnership-quarterly-meeting/
END:VEVENT
BEGIN:VEVENT
DTSTART;TZID=America/Los_Angeles:20231115T090000
DTEND;TZID=America/Los_Angeles:20231115T130000
DTSTAMP:20260419T223214
CREATED:20230927T214228Z
LAST-MODIFIED:20231117T232107Z
UID:3385-1700038800-1700053200@lacareerpathwayspartnership.com
SUMMARY:Model Articulation Zoom Meeting
DESCRIPTION:Review of course to\ncourse articulation\nMission of noncredit\ncourses\nMirrored courses &\narticulations\nCollege faculty\ncollaboration to\nexplore course\narticulation
URL:https://lacareerpathwayspartnership.com/event/model-articulation-meeting/
END:VEVENT
BEGIN:VEVENT
DTSTART;TZID=America/Los_Angeles:20231018T080000
DTEND;TZID=America/Los_Angeles:20231020T170000
DTSTAMP:20260419T223214
CREATED:20230927T210322Z
LAST-MODIFIED:20230927T210322Z
UID:3379-1697616000-1697821200@lacareerpathwayspartnership.com
SUMMARY:CCCAOE Fall 2023
DESCRIPTION:
URL:https://lacareerpathwayspartnership.com/event/cccaoe-fall-2023/
END:VEVENT
BEGIN:VEVENT
DTSTART;VALUE=DATE:20231004
DTEND;VALUE=DATE:20231006
DTSTAMP:20260419T223214
CREATED:20230609T215928Z
LAST-MODIFIED:20230609T215928Z
UID:3376-1696377600-1696550399@lacareerpathwayspartnership.com
SUMMARY:NCWE 2023 Conference
DESCRIPTION:Oh\, Say Can You Succeed:\nKeys to a Banner Year in Workforce Development \nOctober 4-5\, 2023\nHyatt Hotel – Inner Harbor\, Baltimore\, Maryland
URL:https://lacareerpathwayspartnership.com/event/ncwe-2023-conference/
END:VEVENT
BEGIN:VEVENT
DTSTART;TZID=America/Los_Angeles:20230913T090000
DTEND;TZID=America/Los_Angeles:20230913T130000
DTSTAMP:20260419T223214
CREATED:20230927T213155Z
LAST-MODIFIED:20230927T213309Z
UID:3381-1694595600-1694610000@lacareerpathwayspartnership.com
SUMMARY:LA Co Career Pathways Partnership Quarterly Meeting
DESCRIPTION:
URL:https://lacareerpathwayspartnership.com/event/cpp-quarterly-meeting/
LOCATION:Quiet Cannon\, Montebello\, CA
END:VEVENT
BEGIN:VEVENT
DTSTART;TZID=America/Los_Angeles:20230614T090000
DTEND;TZID=America/Los_Angeles:20230614T130000
DTSTAMP:20260419T223214
CREATED:20230609T172848Z
LAST-MODIFIED:20230609T172848Z
UID:3370-1686733200-1686747600@lacareerpathwayspartnership.com
SUMMARY:LA Co. Career Pathways Partnership Meeting
DESCRIPTION:
URL:https://lacareerpathwayspartnership.com/event/la-co-career-pathways-partnership-meeting/
LOCATION:Quiet Cannon\, Montebello\, CA
CATEGORIES:Meeting
END:VEVENT
BEGIN:VEVENT
DTSTART;TZID=America/Los_Angeles:20230515T150000
DTEND;TZID=America/Los_Angeles:20230517T130000
DTSTAMP:20260419T223214
CREATED:20230210T193813Z
LAST-MODIFIED:20230210T194030Z
UID:3337-1684162800-1684328400@lacareerpathwayspartnership.com
SUMMARY:LA CO SWP Regional Project CPP Working Retreat
DESCRIPTION:LA Co. Strong Workforce Regional Project – Career Pathways Partnership \nInvites You to Attend a Working Retreat at: \nUCLA Conference Center\, Lake Arrowhead\, CA\n5/15/2023 (3:00 PM) – 5/17/2023 (1:00 PM) \nParticipants Include: Career Pathways Specialist\, K12 Pathway Coordinators\, and LARC Voting Members \nPurpose of Retreat: Learn\, Evaluate\, and Plan K16 Career Pathways for your college\nAgenda and Additional Info Forthcoming:\nContact Melissa Alvarez-Mejorado with questions malvarez-mejorado@riohondo.edu
URL:https://lacareerpathwayspartnership.com/event/la-co-swp-regional-project-cpp-working-retreat/
END:VEVENT
BEGIN:VEVENT
DTSTART;TZID=America/Los_Angeles:20230419T080000
DTEND;TZID=America/Los_Angeles:20230421T170000
DTSTAMP:20260419T223214
CREATED:20221206T231520Z
LAST-MODIFIED:20221206T231520Z
UID:3282-1681891200-1682096400@lacareerpathwayspartnership.com
SUMMARY:CCCAOE’s Spring 2023 Conference
DESCRIPTION:CCCAOE’s Spring 2023 Conference will focus on Belonging\, Connectedness\, Student-Centered Strategies\, Work-based Learning\, Community Partnerships\, hearing the voices of those who aren’t being heard\, and HIGHLIGHTING the tremendously innovative work that is happening all across the state. \nVisit CCCAOE.org for all the details! You will find both items under the Professional Development drop-down menu.
URL:https://lacareerpathwayspartnership.com/event/cccaoes-spring-2023-conference/
CATEGORIES:Conference
END:VEVENT
BEGIN:VEVENT
DTSTART;TZID=America/Los_Angeles:20230315T090000
DTEND;TZID=America/Los_Angeles:20230315T130000
DTSTAMP:20260419T223214
CREATED:20230609T215415Z
LAST-MODIFIED:20230609T215652Z
UID:3374-1678870800-1678885200@lacareerpathwayspartnership.com
SUMMARY:LA Co. Career Pathways Partnership Meeting
DESCRIPTION:
URL:https://lacareerpathwayspartnership.com/event/la-co-career-pathways-partnership-meeting-2/
LOCATION:Quiet Cannon\, Montebello\, CA
END:VEVENT
BEGIN:VEVENT
DTSTART;TZID=America/Los_Angeles:20230308T080000
DTEND;TZID=America/Los_Angeles:20230309T170000
DTSTAMP:20260419T223215
CREATED:20230210T192242Z
LAST-MODIFIED:20230210T192242Z
UID:3335-1678262400-1678381200@lacareerpathwayspartnership.com
SUMMARY:Career Technical Education (CTE) & Counselor Symposium
DESCRIPTION:The Career Technical Education (CTE) Symposium 2023 is back in-person! \nOn March 8\, 2023: This CTE Symposium is a time to convene the CTE community to support shared best practices\, dissemination of timely information\, and ongoing resource development and distribution. This symposium focuses on enhancing the outcomes of California’s students by building the capacity to improve student performance in state-priority CTE areas continuously. \nThis professional development symposium will include Key Note Speakers:\n    – March 8\, 2023 Keynote Speaker\, Dr. Kevin Fleming \nOn March 9\, 2023: School Counselors are the most influential individuals on campus\, especially regarding guidance and career building. This symposium focuses on providing services that will help Counselors guide and lead their students and families. \nWe invite you to explore the aspects of high-quality CTE pathways/programs in Los Angeles County and tour the Los Angeles Trade Technical College. \nParticipants Will: \n\nLearn strategies to improve access to on-demand career trades and enhance the quality of existing CTE pathways/programs.\nIdentify compelling economic market data for CTE pathways/programs to inform program decisions that meet workforce needs.\nFocus on accelerating innovative CTE learning opportunities leading to increased student engagement and interest.\nExperience a facility tour to understand the students’ experience at Los Angeles Trade Technical College.
URL:https://lacareerpathwayspartnership.com/event/career-technical-education-cte-counselor-symposium/
END:VEVENT
BEGIN:VEVENT
DTSTART;TZID=America/Los_Angeles:20221214T080000
DTEND;TZID=America/Los_Angeles:20221214T130000
DTSTAMP:20260419T223215
CREATED:20221206T232349Z
LAST-MODIFIED:20221206T233406Z
UID:3284-1671004800-1671022800@lacareerpathwayspartnership.com
SUMMARY:LA Co. Career Pathways Partnership Meeting - December 14\, 2022
DESCRIPTION:Dear Colleagues\, \nPlease find the attached invitation to our next Quarterly Meeting scheduled for December 14\, 2022 at the Quiet Cannon – 901 Via San Clemente\, Montebello.   Agenda and minutes from our last meeting will be sent out the week of the event. \nRegister at the link below or via the link on the attached invitation. \nRegister Here \nSave the Date_12.14.22_Final
URL:https://lacareerpathwayspartnership.com/event/la-co-career-pathways-partnership-meeting-december-14-2022/
LOCATION:Quiet Cannon\, Montebello\, CA
CATEGORIES:Meeting
END:VEVENT
BEGIN:VEVENT
DTSTART;TZID=America/Los_Angeles:20220615T090000
DTEND;TZID=America/Los_Angeles:20220617T120000
DTSTAMP:20260419T223215
CREATED:20210721T192909Z
LAST-MODIFIED:20211124T200710Z
UID:3109-1655283600-1655467200@lacareerpathwayspartnership.com
SUMMARY:LA Co. Career Pathways Partnership Retreat
DESCRIPTION:Details coming soon
URL:https://lacareerpathwayspartnership.com/event/la-co-career-pathways-partnership-program-quarterly-meeting-4/
LOCATION:UCLA Conference Center\, Lake Arrowhead
CATEGORIES:Meeting,Retreat
END:VEVENT
END:VCALENDAR