BEGIN:VCALENDAR
VERSION:2.0
PRODID:-//LA Career Pathways Partnership - ECPv6.15.17//NONSGML v1.0//EN
CALSCALE:GREGORIAN
METHOD:PUBLISH
X-WR-CALNAME:LA Career Pathways Partnership
X-ORIGINAL-URL:https://lacareerpathwayspartnership.com
X-WR-CALDESC:Events for LA Career Pathways Partnership
REFRESH-INTERVAL;VALUE=DURATION:PT1H
X-Robots-Tag:noindex
X-PUBLISHED-TTL:PT1H
BEGIN:VTIMEZONE
TZID:America/Los_Angeles
BEGIN:DAYLIGHT
TZOFFSETFROM:-0800
TZOFFSETTO:-0700
TZNAME:PDT
DTSTART:20200308T100000
END:DAYLIGHT
BEGIN:STANDARD
TZOFFSETFROM:-0700
TZOFFSETTO:-0800
TZNAME:PST
DTSTART:20201101T090000
END:STANDARD
BEGIN:DAYLIGHT
TZOFFSETFROM:-0800
TZOFFSETTO:-0700
TZNAME:PDT
DTSTART:20210314T100000
END:DAYLIGHT
BEGIN:STANDARD
TZOFFSETFROM:-0700
TZOFFSETTO:-0800
TZNAME:PST
DTSTART:20211107T090000
END:STANDARD
BEGIN:DAYLIGHT
TZOFFSETFROM:-0800
TZOFFSETTO:-0700
TZNAME:PDT
DTSTART:20220313T100000
END:DAYLIGHT
BEGIN:STANDARD
TZOFFSETFROM:-0700
TZOFFSETTO:-0800
TZNAME:PST
DTSTART:20221106T090000
END:STANDARD
BEGIN:DAYLIGHT
TZOFFSETFROM:-0800
TZOFFSETTO:-0700
TZNAME:PDT
DTSTART:20230312T100000
END:DAYLIGHT
BEGIN:STANDARD
TZOFFSETFROM:-0700
TZOFFSETTO:-0800
TZNAME:PST
DTSTART:20231105T090000
END:STANDARD
BEGIN:DAYLIGHT
TZOFFSETFROM:-0800
TZOFFSETTO:-0700
TZNAME:PDT
DTSTART:20240310T100000
END:DAYLIGHT
BEGIN:STANDARD
TZOFFSETFROM:-0700
TZOFFSETTO:-0800
TZNAME:PST
DTSTART:20241103T090000
END:STANDARD
END:VTIMEZONE
BEGIN:VTIMEZONE
TZID:America/Los_Angeles
BEGIN:DAYLIGHT
TZOFFSETFROM:-0800
TZOFFSETTO:-0700
TZNAME:PDT
DTSTART:20230312T100000
END:DAYLIGHT
BEGIN:STANDARD
TZOFFSETFROM:-0700
TZOFFSETTO:-0800
TZNAME:PST
DTSTART:20231105T090000
END:STANDARD
BEGIN:DAYLIGHT
TZOFFSETFROM:-0800
TZOFFSETTO:-0700
TZNAME:PDT
DTSTART:20240310T100000
END:DAYLIGHT
BEGIN:STANDARD
TZOFFSETFROM:-0700
TZOFFSETTO:-0800
TZNAME:PST
DTSTART:20241103T090000
END:STANDARD
BEGIN:DAYLIGHT
TZOFFSETFROM:-0800
TZOFFSETTO:-0700
TZNAME:PDT
DTSTART:20250309T100000
END:DAYLIGHT
BEGIN:STANDARD
TZOFFSETFROM:-0700
TZOFFSETTO:-0800
TZNAME:PST
DTSTART:20251102T090000
END:STANDARD
BEGIN:DAYLIGHT
TZOFFSETFROM:-0800
TZOFFSETTO:-0700
TZNAME:PDT
DTSTART:20260308T100000
END:DAYLIGHT
BEGIN:STANDARD
TZOFFSETFROM:-0700
TZOFFSETTO:-0800
TZNAME:PST
DTSTART:20261101T090000
END:STANDARD
END:VTIMEZONE
BEGIN:VEVENT
DTSTART;TZID=America/Los_Angeles:20211117T090000
DTEND;TZID=America/Los_Angeles:20211117T120000
DTSTAMP:20260425T071359
CREATED:20210819T184359Z
LAST-MODIFIED:20211027T153749Z
UID:3126-1637139600-1637150400@lacareerpathwayspartnership.com
SUMMARY:LA Co. Career Pathways Partnership Program Pathway Finder Training
DESCRIPTION:Dear Colleagues\, \nOur next Quarterly Meeting scheduled for November 17\, 2021 at the Quiet Cannon – 901 Via San Clemente\, Montebello.  Please extend this invite to your high school counselors\, career center staff\, and faculty who could benefit from learning how to use the Career Finder.  Capacity is limited to the first 50 participants who register and masks will be required to enter banquet facility.  Please register early to our first face-face meeting.\nI look forward to seeing you. \nRegister at the link below.  A confirmation email will be sent out the week of the meeting. \nhttps://forms.gle/mvmZGqB1SDHs7p2s9
URL:https://lacareerpathwayspartnership.com/event/la-co-career-pathways-partnership-program-pathway-finder-training/
LOCATION:Quiet Cannon\, Montebello\, CA
CATEGORIES:Meeting
END:VEVENT
BEGIN:VEVENT
DTSTART;TZID=America/Los_Angeles:20220316T090000
DTEND;TZID=America/Los_Angeles:20220316T120000
DTSTAMP:20260425T071359
CREATED:20210721T190004Z
LAST-MODIFIED:20210721T190004Z
UID:3101-1647421200-1647432000@lacareerpathwayspartnership.com
SUMMARY:LA Co. Career Pathways Partnership Program Quarterly Meeting
DESCRIPTION:Hi there\, \nMelissa Alvarez-Mejorado is inviting you to a scheduled Zoom meeting. \nJoin from PC\, Mac\, Linux\, iOS or Android: https://cccconfer.zoom.us/j/95237978524 \nOr iPhone one-tap (US Toll):  +16699006833\,95237978524#  or +12532158782\,95237978524# \nOr Telephone: \nDial: \n+1 669 900 6833 (US Toll) \n+1 253 215 8782 (US Toll) \n+1 346 248 7799 (US Toll) \n+1 646 876 9923 (US Toll) \n+1 301 715 8592 (US Toll) \n+1 312 626 6799 (US Toll) \nMeeting ID: 952 3797 8524 \nInternational numbers available: https://cccconfer.zoom.us/u/adC6LNrpD6 \nOr Skype for Business (Lync): \nSIP:95237978524@lync.zoom.us
URL:https://lacareerpathwayspartnership.com/event/la-co-career-pathways-partnership-program-quarterly-meeting-3/
LOCATION:Zoom Call
CATEGORIES:Meeting
END:VEVENT
BEGIN:VEVENT
DTSTART;TZID=America/Los_Angeles:20220615T090000
DTEND;TZID=America/Los_Angeles:20220617T120000
DTSTAMP:20260425T071359
CREATED:20210721T192909Z
LAST-MODIFIED:20211124T200710Z
UID:3109-1655283600-1655467200@lacareerpathwayspartnership.com
SUMMARY:LA Co. Career Pathways Partnership Retreat
DESCRIPTION:Details coming soon
URL:https://lacareerpathwayspartnership.com/event/la-co-career-pathways-partnership-program-quarterly-meeting-4/
LOCATION:UCLA Conference Center\, Lake Arrowhead
CATEGORIES:Meeting,Retreat
END:VEVENT
BEGIN:VEVENT
DTSTART;TZID=America/Los_Angeles:20221214T080000
DTEND;TZID=America/Los_Angeles:20221214T130000
DTSTAMP:20260425T071359
CREATED:20221206T232349Z
LAST-MODIFIED:20221206T233406Z
UID:3284-1671004800-1671022800@lacareerpathwayspartnership.com
SUMMARY:LA Co. Career Pathways Partnership Meeting - December 14\, 2022
DESCRIPTION:Dear Colleagues\, \nPlease find the attached invitation to our next Quarterly Meeting scheduled for December 14\, 2022 at the Quiet Cannon – 901 Via San Clemente\, Montebello.   Agenda and minutes from our last meeting will be sent out the week of the event. \nRegister at the link below or via the link on the attached invitation. \nRegister Here \nSave the Date_12.14.22_Final
URL:https://lacareerpathwayspartnership.com/event/la-co-career-pathways-partnership-meeting-december-14-2022/
LOCATION:Quiet Cannon\, Montebello\, CA
CATEGORIES:Meeting
END:VEVENT
BEGIN:VEVENT
DTSTART;TZID=America/Los_Angeles:20230614T090000
DTEND;TZID=America/Los_Angeles:20230614T130000
DTSTAMP:20260425T071359
CREATED:20230609T172848Z
LAST-MODIFIED:20230609T172848Z
UID:3370-1686733200-1686747600@lacareerpathwayspartnership.com
SUMMARY:LA Co. Career Pathways Partnership Meeting
DESCRIPTION:
URL:https://lacareerpathwayspartnership.com/event/la-co-career-pathways-partnership-meeting/
LOCATION:Quiet Cannon\, Montebello\, CA
CATEGORIES:Meeting
END:VEVENT
BEGIN:VEVENT
DTSTART;TZID=America/Los_Angeles:20240918T093000
DTEND;TZID=America/Los_Angeles:20240918T133000
DTSTAMP:20260425T071359
CREATED:20240719T004400Z
LAST-MODIFIED:20240722T211058Z
UID:3561-1726651800-1726666200@lacareerpathwayspartnership.com
SUMMARY:CPP Quarterly Meeting-9/18/24 (Quiet Cannon)
DESCRIPTION:Career Pathways Quarterly Meeting  \nDate: September 18\, 2024 \nLocation: Quiet Cannon\n          901 Via San Clemente\n          Montebello\, CA 90640 \nTime: TBA  \nMore details coming soon!
URL:https://lacareerpathwayspartnership.com/event/cpp-quarterly-meeting-9-18-24-quiet-cannon/
LOCATION:Quiet Cannon\, Montebello\, CA
CATEGORIES:Meeting
END:VEVENT
BEGIN:VEVENT
DTSTART;TZID=America/Los_Angeles:20241211T093000
DTEND;TZID=America/Los_Angeles:20241211T133000
DTSTAMP:20260425T071359
CREATED:20240722T184318Z
LAST-MODIFIED:20240724T004349Z
UID:3566-1733909400-1733923800@lacareerpathwayspartnership.com
SUMMARY:CPP Quarterly Meeting - 12/11/24 (Quiet Cannon)
DESCRIPTION:Career Pathways Quarterly Meeting  \nDate: December 11\, 2024 \nLocation: Quiet Cannon\n          901 Via San Clemente\n          Montebello\, CA 90640 \nTime: TBA  \nMore details coming soon!
URL:https://lacareerpathwayspartnership.com/event/cpp-quarterly-meeting-12-11-24-quiet-cannon/
LOCATION:Quiet Cannon\, Montebello\, CA
CATEGORIES:Meeting
END:VEVENT
BEGIN:VEVENT
DTSTART;TZID=America/Los_Angeles:20250319T093000
DTEND;TZID=America/Los_Angeles:20250319T133000
DTSTAMP:20260425T071359
CREATED:20240722T210918Z
LAST-MODIFIED:20241029T184128Z
UID:3568-1742376600-1742391000@lacareerpathwayspartnership.com
SUMMARY:CPP Quarterly Meeting - 3/19/25 (Quiet Cannon)
DESCRIPTION:Career Pathways Quarterly Meeting  \nDate: March 20\, 2025 \nLocation: Quiet Cannon\n          901 Via San Clemente\n          Montebello\, CA 90640 \nTime: TBA  \nMore details coming soon!
URL:https://lacareerpathwayspartnership.com/event/cpp-quarterly-meeting-3-20-25-quiet-cannon/
LOCATION:Quiet Cannon\, Montebello\, CA
CATEGORIES:Meeting
END:VEVENT
END:VCALENDAR