BEGIN:VCALENDAR
VERSION:2.0
PRODID:-//LA Career Pathways Partnership - ECPv6.15.17//NONSGML v1.0//EN
CALSCALE:GREGORIAN
METHOD:PUBLISH
X-ORIGINAL-URL:https://lacareerpathwayspartnership.com
X-WR-CALDESC:Events for LA Career Pathways Partnership
REFRESH-INTERVAL;VALUE=DURATION:PT1H
X-Robots-Tag:noindex
X-PUBLISHED-TTL:PT1H
BEGIN:VTIMEZONE
TZID:America/Los_Angeles
BEGIN:DAYLIGHT
TZOFFSETFROM:-0800
TZOFFSETTO:-0700
TZNAME:PDT
DTSTART:20230312T100000
END:DAYLIGHT
BEGIN:STANDARD
TZOFFSETFROM:-0700
TZOFFSETTO:-0800
TZNAME:PST
DTSTART:20231105T090000
END:STANDARD
BEGIN:DAYLIGHT
TZOFFSETFROM:-0800
TZOFFSETTO:-0700
TZNAME:PDT
DTSTART:20240310T100000
END:DAYLIGHT
BEGIN:STANDARD
TZOFFSETFROM:-0700
TZOFFSETTO:-0800
TZNAME:PST
DTSTART:20241103T090000
END:STANDARD
BEGIN:DAYLIGHT
TZOFFSETFROM:-0800
TZOFFSETTO:-0700
TZNAME:PDT
DTSTART:20250309T100000
END:DAYLIGHT
BEGIN:STANDARD
TZOFFSETFROM:-0700
TZOFFSETTO:-0800
TZNAME:PST
DTSTART:20251102T090000
END:STANDARD
END:VTIMEZONE
BEGIN:VEVENT
DTSTART;TZID=America/Los_Angeles:20240419T093000
DTEND;TZID=America/Los_Angeles:20240419T183000
DTSTAMP:20260419T134049
CREATED:20240404T211350Z
LAST-MODIFIED:20240404T211350Z
UID:3484-1713519000-1713551400@lacareerpathwayspartnership.com
SUMMARY:Registration is Open! Blue Economy and Climate Action Pathways Kick Off and Conference - April 19\, 2024
DESCRIPTION:Santa Monica College\, in partnership with the California Community Colleges Chancellor’s Office and their partners\, invite you to join us for the Blue Economy and Climate Action Pathways (BECAP) Kick Off and Conference. The BECAP Regional Project aims to meet the emerging employment demands in ocean-related labor markets that are aligned with climate action and environmental justice priorities.  Event Details Date: April 19\, 2024 Venue: AltaSea\, San Pedro Time: 9:30 am – 6:30 pm Registration: https://californiacommunitycolleges.cventevents.com/event/BlueEconomyClimateActionPathwaysKickOff/websitePage:4434a09e-9d97-4104-8f75-4a17d2c6f96d  [https://californiacommunitycolleges.cventevents.com/event/BlueEconomyClimateActionPathwaysKickOff/websitePage:4434a09e-9d97-4104-8f75-4a17d2c6f96d]. The Chancellor’s Office is committed to providing access and reasonable accommodation in its services\, programs and events. Accommodation requests related to a disability should be made by April 5\, 2024 to the Conferences and Events team at conferences@foundationccc.org. \nSanta Monica College\, in partnership with the California Community Colleges Chancellor’s Office and their partners\, invite you to join us for the Blue Economy and Climate Action Pathways (BECAP) Kick Off and Conference. The BECAP Regional Project aims to meet the emerging employment demands in ocean-related labor markets that are aligned with climate action and environmental justice priorities.  \nEvent Details \nDate: April 19\, 2024 \nVenue: AltaSea\, San Pedro \nTime: 9:30 am – 6:30 pm \nRegistration: https://californiacommunitycolleges.cventevents.com/event/BlueEconomyClimateActionPathwaysKickOff/websitePage:4434a09e-9d97-4104-8f75-4a17d2c6f96d . \nThe Chancellor’s Office is committed to providing access and reasonable accommodation in its services\, programs and events. Accommodation requests related to a disability should be made by April 5\, 2024 to the Conferences and Events team at conferences@foundationccc.org.
URL:https://lacareerpathwayspartnership.com/event/registration-is-open-blue-economy-and-climate-action-pathways-kick-off-and-conference-april-19-2024/
CATEGORIES:Conference
END:VEVENT
END:VCALENDAR