BEGIN:VCALENDAR
VERSION:2.0
PRODID:-//LA Career Pathways Partnership - ECPv6.15.17//NONSGML v1.0//EN
CALSCALE:GREGORIAN
METHOD:PUBLISH
X-ORIGINAL-URL:https://lacareerpathwayspartnership.com
X-WR-CALDESC:Events for LA Career Pathways Partnership
REFRESH-INTERVAL;VALUE=DURATION:PT1H
X-Robots-Tag:noindex
X-PUBLISHED-TTL:PT1H
BEGIN:VTIMEZONE
TZID:America/Los_Angeles
BEGIN:DAYLIGHT
TZOFFSETFROM:-0800
TZOFFSETTO:-0700
TZNAME:PDT
DTSTART:20230312T100000
END:DAYLIGHT
BEGIN:STANDARD
TZOFFSETFROM:-0700
TZOFFSETTO:-0800
TZNAME:PST
DTSTART:20231105T090000
END:STANDARD
BEGIN:DAYLIGHT
TZOFFSETFROM:-0800
TZOFFSETTO:-0700
TZNAME:PDT
DTSTART:20240310T100000
END:DAYLIGHT
BEGIN:STANDARD
TZOFFSETFROM:-0700
TZOFFSETTO:-0800
TZNAME:PST
DTSTART:20241103T090000
END:STANDARD
BEGIN:DAYLIGHT
TZOFFSETFROM:-0800
TZOFFSETTO:-0700
TZNAME:PDT
DTSTART:20250309T100000
END:DAYLIGHT
BEGIN:STANDARD
TZOFFSETFROM:-0700
TZOFFSETTO:-0800
TZNAME:PST
DTSTART:20251102T090000
END:STANDARD
END:VTIMEZONE
BEGIN:VEVENT
DTSTART;TZID=America/Los_Angeles:20240417T150000
DTEND;TZID=America/Los_Angeles:20240417T160000
DTSTAMP:20260419T134051
CREATED:20240111T185029Z
LAST-MODIFIED:20240111T185029Z
UID:3439-1713366000-1713369600@lacareerpathwayspartnership.com
SUMMARY:Topic LA CO Career Pathways Partnership Conference Call | April
DESCRIPTION:Topic LA CO Career Pathways Partnership Conference Call | April\n\n\n\n\n\nTime\nTime \n\nApr 17\, 2024 03:00 PM Pacific Time (US and Canada) \nEvery month on the Third Wed\, 4 occurrence(s)Show all occurrences\n\n\n\n\n\n\n\nMeeting ID\nMeeting ID \n819 1364 4686 \n\n\n\n\n\n\n\n\n\n\n\n\n\n\n\n\n\n\n\n\n\n\n\nInvite Link\nInvite Link https://riohondo-edu.zoom.us/j/81913644686?pwd=OUtneEpZTEtKTS9uYk1Fa25SM0l1Zz09 \nhttps://riohondo-edu.zoom.us/j/81913644686?pwd=OUtneEpZTEtKTS9uYk1Fa25SM0l1Zz09 
URL:https://lacareerpathwayspartnership.com/event/topic-la-co-career-pathways-partnership-conference-call-april/
END:VEVENT
END:VCALENDAR