BEGIN:VCALENDAR
VERSION:2.0
PRODID:-//LA Career Pathways Partnership - ECPv6.15.17//NONSGML v1.0//EN
CALSCALE:GREGORIAN
METHOD:PUBLISH
X-ORIGINAL-URL:https://lacareerpathwayspartnership.com
X-WR-CALDESC:Events for LA Career Pathways Partnership
REFRESH-INTERVAL;VALUE=DURATION:PT1H
X-Robots-Tag:noindex
X-PUBLISHED-TTL:PT1H
BEGIN:VTIMEZONE
TZID:America/Los_Angeles
BEGIN:DAYLIGHT
TZOFFSETFROM:-0800
TZOFFSETTO:-0700
TZNAME:PDT
DTSTART:20230312T100000
END:DAYLIGHT
BEGIN:STANDARD
TZOFFSETFROM:-0700
TZOFFSETTO:-0800
TZNAME:PST
DTSTART:20231105T090000
END:STANDARD
BEGIN:DAYLIGHT
TZOFFSETFROM:-0800
TZOFFSETTO:-0700
TZNAME:PDT
DTSTART:20240310T100000
END:DAYLIGHT
BEGIN:STANDARD
TZOFFSETFROM:-0700
TZOFFSETTO:-0800
TZNAME:PST
DTSTART:20241103T090000
END:STANDARD
BEGIN:DAYLIGHT
TZOFFSETFROM:-0800
TZOFFSETTO:-0700
TZNAME:PDT
DTSTART:20250309T100000
END:DAYLIGHT
BEGIN:STANDARD
TZOFFSETFROM:-0700
TZOFFSETTO:-0800
TZNAME:PST
DTSTART:20251102T090000
END:STANDARD
END:VTIMEZONE
BEGIN:VEVENT
DTSTART;TZID=America/Los_Angeles:20240220T080000
DTEND;TZID=America/Los_Angeles:20240223T170000
DTSTAMP:20260419T170135
CREATED:20231117T233302Z
LAST-MODIFIED:20231117T233302Z
UID:3418-1708416000-1708707600@lacareerpathwayspartnership.com
SUMMARY:2nd Annual California Dual Enrollment Equity Conference
DESCRIPTION:The California Alliance of Dual Enrollment Partnerships\, Career Ladders Project\, and The Education Trust–West present the 2nd Annual California Dual Enrollment Equity Conference at the Westin Long Beach. First-time attendee? Learn more about sessions and speakers from our 2023 conference by exploring the 2023 California Dual Enrollment Equity Conference official program. \nLocation: Westin Long Beach\, 333 E Ocean Blvd\, Long Beach\, CA 90802 \nCalifornia Dual Enrollment Equity Conference
URL:https://lacareerpathwayspartnership.com/event/2nd-annual-california-dual-enrollment-equity-conference/
LOCATION:Westin Long Beach
END:VEVENT
END:VCALENDAR