BEGIN:VCALENDAR
VERSION:2.0
PRODID:-//LA Career Pathways Partnership - ECPv6.15.17//NONSGML v1.0//EN
CALSCALE:GREGORIAN
METHOD:PUBLISH
X-WR-CALNAME:LA Career Pathways Partnership
X-ORIGINAL-URL:https://lacareerpathwayspartnership.com
X-WR-CALDESC:Events for LA Career Pathways Partnership
REFRESH-INTERVAL;VALUE=DURATION:PT1H
X-Robots-Tag:noindex
X-PUBLISHED-TTL:PT1H
BEGIN:VTIMEZONE
TZID:America/Los_Angeles
BEGIN:DAYLIGHT
TZOFFSETFROM:-0800
TZOFFSETTO:-0700
TZNAME:PDT
DTSTART:20180311T100000
END:DAYLIGHT
BEGIN:STANDARD
TZOFFSETFROM:-0700
TZOFFSETTO:-0800
TZNAME:PST
DTSTART:20181104T090000
END:STANDARD
BEGIN:DAYLIGHT
TZOFFSETFROM:-0800
TZOFFSETTO:-0700
TZNAME:PDT
DTSTART:20190310T100000
END:DAYLIGHT
BEGIN:STANDARD
TZOFFSETFROM:-0700
TZOFFSETTO:-0800
TZNAME:PST
DTSTART:20191103T090000
END:STANDARD
BEGIN:DAYLIGHT
TZOFFSETFROM:-0800
TZOFFSETTO:-0700
TZNAME:PDT
DTSTART:20200308T100000
END:DAYLIGHT
BEGIN:STANDARD
TZOFFSETFROM:-0700
TZOFFSETTO:-0800
TZNAME:PST
DTSTART:20201101T090000
END:STANDARD
END:VTIMEZONE
BEGIN:VEVENT
DTSTART;TZID=America/Los_Angeles:20191120T150000
DTEND;TZID=America/Los_Angeles:20191120T160000
DTSTAMP:20260423T132806
CREATED:20190723T151124Z
LAST-MODIFIED:20190806T220101Z
UID:1169-1574262000-1574265600@lacareerpathwayspartnership.com
SUMMARY:LA Co. Career Pathways Specialist Conference Call
DESCRIPTION:Join from PC\, Mac\, Linux\, iOS or Android: https://cccconfer.zoom.us/j/569783282 \nOr iPhone one-tap (US Toll):  +16699006833\,569783282#  or +16468769923\,569783282# \nOr Telephone: \nDial:  +1 669 900 6833 (US Toll) \n+1 646 876 9923 (US Toll) \nMeeting ID: 569 783 282 \nInternational numbers available: https://zoom.us/u/adloYsAZs \nOr Skype for Business (Lync): \nSIP:569783282@lync.zoom.us
URL:https://lacareerpathwayspartnership.com/event/la-co-career-pathways-specialist-conference-call-3/
CATEGORIES:Conference Call
END:VEVENT
END:VCALENDAR